BEGIN:VCALENDAR
VERSION:2.0
PRODID:-//Advanced Intellect//aspNetEmail Calendar Writer(v4.0.0.57)//EN
METHOD:POST
BEGIN:VTIMEZONE
LAST-MODIFIED:20260425T195037Z
TZID:Eastern Standard Time
BEGIN:STANDARD
DTSTART:16010101T030000
TZOFFSETFROM:-0400
TZOFFSETTO:-0500
TZNAME:EST
RRULE:FREQ=YEARLY;BYMONTH=11;BYDAY=1SU
END:STANDARD
BEGIN:DAYLIGHT
DTSTART:16010101T020000
TZOFFSETFROM:-0500
TZOFFSETTO:-0400
TZNAME:EDT
RRULE:FREQ=YEARLY;BYMONTH=3;BYDAY=2SU
END:DAYLIGHT
END:VTIMEZONE
BEGIN:VEVENT
DTSTART;TZID="Eastern Standard Time":20180407T093000
DTEND;TZID="Eastern Standard Time":20180407T120000
UID:6c5c672e-730f-4f9f-b794-68d4b1609205
CREATED:20260425T235037Z
DTSTAMP:20260425T235037Z
LAST-MODIFIED:20260425T235037Z
DESCRIPTION:Serve The City 21 - Broward Outreach Center - Paint &
  Renovation-Welcome Room
CLASS:PUBLIC
LOCATION:
PRIORITY:5
SUMMARY:Serve The City 21 - Broward Outreach Center - Paint & Renovation-W
 elcome Room
TRANSP:OPAQUE
SEQUENCE:0
ORGANIZER;CN="Lara Wobb":MAILTO:LWobb@spanishriver.com
STATUS:NEEDS ACTION
BEGIN:VALARM
DESCRIPTION:Serve The City 21 - Broward Outreach Center - Paint &
  Renovation-Welcome Room
ACTION:DISPLAY
TRIGGER:-PT30M
END:VALARM
END:VEVENT
END:VCALENDAR